BEGIN:VCALENDAR
VERSION:2.0
PRODID:-//Calvörder Karnevalsclub - ECPv6.15.20//NONSGML v1.0//EN
CALSCALE:GREGORIAN
METHOD:PUBLISH
X-ORIGINAL-URL:https://ckc-calvoerde.de
X-WR-CALDESC:Veranstaltungen für Calvörder Karnevalsclub
REFRESH-INTERVAL;VALUE=DURATION:PT1H
X-Robots-Tag:noindex
X-PUBLISHED-TTL:PT1H
BEGIN:VTIMEZONE
TZID:UTC
BEGIN:STANDARD
TZOFFSETFROM:+0000
TZOFFSETTO:+0000
TZNAME:UTC
DTSTART:20240101T000000
END:STANDARD
END:VTIMEZONE
BEGIN:VEVENT
DTSTART;TZID=UTC:20260215T133000
DTEND;TZID=UTC:20260215T170000
DTSTAMP:20260420T155447
CREATED:20230106T104922Z
LAST-MODIFIED:20260109T101625Z
UID:522-1771162200-1771174800@ckc-calvoerde.de
SUMMARY:Familienfasching Calvörde
DESCRIPTION:
URL:https://ckc-calvoerde.de/veranstaltung/familienfasching-calvoerde/
LOCATION:Mehrzweckhalle Calvörde\, An d. Ohre 10\, Calvörde\, Sachsen Anhalt\, 39359\, Deutschland
ATTACH;FMTTYPE=image/jpeg:https://ckc-calvoerde.de/wp-content/uploads/2023/01/Calvoerde.jpg
ORGANIZER;CN="Calv%C3%B6rder Karnevalsclub":MAILTO:info@ckc-calvoerde.de
END:VEVENT
BEGIN:VEVENT
DTSTART;TZID=UTC:20260214T063000
DTEND;TZID=UTC:20260214T223000
DTSTAMP:20260420T155447
CREATED:20230106T105214Z
LAST-MODIFIED:20260109T101731Z
UID:524-1771050600-1771108200@ckc-calvoerde.de
SUMMARY:Abendveranstaltung Calvörde
DESCRIPTION:
URL:https://ckc-calvoerde.de/veranstaltung/abendveranstaltung-calvoerde/
LOCATION:Mehrzweckhalle Calvörde\, An d. Ohre 10\, Calvörde\, Sachsen Anhalt\, 39359\, Deutschland
ATTACH;FMTTYPE=image/jpeg:https://ckc-calvoerde.de/wp-content/uploads/2023/01/Calvoerde.jpg
ORGANIZER;CN="Calv%C3%B6rder Karnevalsclub":MAILTO:info@ckc-calvoerde.de
END:VEVENT
BEGIN:VEVENT
DTSTART;TZID=UTC:20260124T193000
DTEND;TZID=UTC:20260124T233000
DTSTAMP:20260420T155447
CREATED:20211028T095402Z
LAST-MODIFIED:20260109T141214Z
UID:279-1769283000-1769297400@ckc-calvoerde.de
SUMMARY:Abendveranstaltung Erxleben
DESCRIPTION:
URL:https://ckc-calvoerde.de/veranstaltung/abendveranstaltung-erxleben/
LOCATION:Gemeindesaal Erxleben\, Parkstr. 3\, Erxleben\, Sachsen Anhalt\, 39343\, Germany
ATTACH;FMTTYPE=image/jpeg:https://ckc-calvoerde.de/wp-content/uploads/2021/10/CKC_Orte_Erxleben.jpg
ORGANIZER;CN="Calv%C3%B6rder Karnevalsclub":MAILTO:info@ckc-calvoerde.de
END:VEVENT
BEGIN:VEVENT
DTSTART;TZID=UTC:20260117T193000
DTEND;TZID=UTC:20260117T233000
DTSTAMP:20260420T155447
CREATED:20211028T082052Z
LAST-MODIFIED:20260109T103642Z
UID:231-1768678200-1768692600@ckc-calvoerde.de
SUMMARY:Abendveranstaltung Potzehne
DESCRIPTION:
URL:https://ckc-calvoerde.de/veranstaltung/abendveranstaltung-potzene/
LOCATION:Dorfsaal\, Am Dorn 3\, Potzehne\, Sachsen Anhalt\, 39638\, Germany
ATTACH;FMTTYPE=image/jpeg:https://ckc-calvoerde.de/wp-content/uploads/2021/10/82179412_1473168096171809_4003204923427651584_n-e1635423922461.jpg
ORGANIZER;CN="Calv%C3%B6rder Karnevalsclub":MAILTO:info@ckc-calvoerde.de
END:VEVENT
BEGIN:VEVENT
DTSTART;TZID=UTC:20251115T183000
DTEND;TZID=UTC:20251115T223000
DTSTAMP:20260420T155447
CREATED:20211028T081338Z
LAST-MODIFIED:20241110T163608Z
UID:226-1763231400-1763245800@ckc-calvoerde.de
SUMMARY:Abendveranstaltung Mannhausen
DESCRIPTION:
URL:https://ckc-calvoerde.de/veranstaltung/abendveranstaltung-mannhausen/
LOCATION:Zum Drömling\, Lindenstr. 2\, Mannhausen\, Sachsen Anhalt\, 39359
ATTACH;FMTTYPE=image/jpeg:https://ckc-calvoerde.de/wp-content/uploads/2021/10/Mannhausen-e1635446879455.jpg
ORGANIZER;CN="Calv%C3%B6rder Karnevalsclub":MAILTO:info@ckc-calvoerde.de
END:VEVENT
END:VCALENDAR